BEGIN:VCALENDAR
VERSION:2.0
PRODID:icalendar-ruby
CALSCALE:GREGORIAN
METHOD:PUBLISH
BEGIN:VEVENT
DTSTAMP:20260425T021920Z
UID:5-397770@gracebroomall.com
DTSTART:20261011T140000Z
DTEND:20261011T150000Z
CLASS:PUBLIC
CREATED:20260424T193507
DESCRIPTION:Sunday Worship
LAST-MODIFIED:20260424T193507
LOCATION:
SUMMARY:Sunday Worship
URL;VALUE=URI:https://www.gracebroomall.org/events/sunday-worship/2026-10-1
 1
END:VEVENT
END:VCALENDAR
