BEGIN:VCALENDAR
VERSION:2.0
PRODID:icalendar-ruby
CALSCALE:GREGORIAN
METHOD:PUBLISH
BEGIN:VEVENT
DTSTAMP:20260424T214249Z
UID:5-397506@gracebroomall.com
DTSTART:20260920T140000Z
DTEND:20260920T150000Z
CLASS:PUBLIC
CREATED:20260424T164715
DESCRIPTION:Sunday Worship
LAST-MODIFIED:20260424T164715
LOCATION:
SUMMARY:Sunday Worship
URL;VALUE=URI:https://www.gracebroomall.org/events/sunday-worship/2026-09-2
 0
END:VEVENT
END:VCALENDAR
